BEGIN:VCALENDAR
VERSION:2.0
PRODID:-//Kangaroo Valley - South Coast NSW - ECPv6.15.18//NONSGML v1.0//EN
CALSCALE:GREGORIAN
METHOD:PUBLISH
X-WR-CALNAME:Kangaroo Valley - South Coast NSW
X-ORIGINAL-URL:https://visitkangaroovalley.com.au
X-WR-CALDESC:Events for Kangaroo Valley - South Coast NSW
REFRESH-INTERVAL;VALUE=DURATION:PT1H
X-Robots-Tag:noindex
X-PUBLISHED-TTL:PT1H
BEGIN:VTIMEZONE
TZID:Australia/Melbourne
BEGIN:STANDARD
TZOFFSETFROM:+1100
TZOFFSETTO:+1000
TZNAME:AEST
DTSTART:20250405T160000
END:STANDARD
BEGIN:DAYLIGHT
TZOFFSETFROM:+1000
TZOFFSETTO:+1100
TZNAME:AEDT
DTSTART:20251004T160000
END:DAYLIGHT
BEGIN:STANDARD
TZOFFSETFROM:+1100
TZOFFSETTO:+1000
TZNAME:AEST
DTSTART:20260404T160000
END:STANDARD
BEGIN:DAYLIGHT
TZOFFSETFROM:+1000
TZOFFSETTO:+1100
TZNAME:AEDT
DTSTART:20261003T160000
END:DAYLIGHT
BEGIN:STANDARD
TZOFFSETFROM:+1100
TZOFFSETTO:+1000
TZNAME:AEST
DTSTART:20270403T160000
END:STANDARD
BEGIN:DAYLIGHT
TZOFFSETFROM:+1000
TZOFFSETTO:+1100
TZNAME:AEDT
DTSTART:20271002T160000
END:DAYLIGHT
END:VTIMEZONE
BEGIN:VEVENT
DTSTART;TZID=Australia/Melbourne:20260410T170000
DTEND;TZID=Australia/Melbourne:20260410T210000
DTSTAMP:20260422T030847
CREATED:20260409T062310Z
LAST-MODIFIED:20260409T062310Z
UID:10002076-1775840400-1775854800@visitkangaroovalley.com.au
SUMMARY:Caterina KV Wine Bar
DESCRIPTION:April Evenings 2025\nOptions of drinks\, nibbles or a more substantial meal.\nIf you want to book a table please let us know how many people. \nFeel free to text or ring 0438 651442\nCaterina KV\nShop 3\, 165 Moss Vale Road\, Kangaroo Valley NSW 2577 \n 
URL:https://visitkangaroovalley.com.au/event/caterina-kv-wine-bar-3/2026-04-10/
LOCATION:Caterina\, Shop 3/165 Moss Vale Rd\, Kangaroo Valley\, NSW\, 2577
CATEGORIES:Food & Wine
ATTACH;FMTTYPE=image/webp:https://visitkangaroovalley.com.au/wp-content/uploads/2025/12/tempImageYaNA7Q-scaled.webp
END:VEVENT
END:VCALENDAR