BEGIN:VCALENDAR
VERSION:2.0
PRODID:-//Kangaroo Valley - South Coast NSW - ECPv6.15.18//NONSGML v1.0//EN
CALSCALE:GREGORIAN
METHOD:PUBLISH
X-ORIGINAL-URL:https://visitkangaroovalley.com.au
X-WR-CALDESC:Events for Kangaroo Valley - South Coast NSW
REFRESH-INTERVAL;VALUE=DURATION:PT1H
X-Robots-Tag:noindex
X-PUBLISHED-TTL:PT1H
BEGIN:VTIMEZONE
TZID:Australia/Melbourne
BEGIN:STANDARD
TZOFFSETFROM:+1100
TZOFFSETTO:+1000
TZNAME:AEST
DTSTART:20250405T160000
END:STANDARD
BEGIN:DAYLIGHT
TZOFFSETFROM:+1000
TZOFFSETTO:+1100
TZNAME:AEDT
DTSTART:20251004T160000
END:DAYLIGHT
BEGIN:STANDARD
TZOFFSETFROM:+1100
TZOFFSETTO:+1000
TZNAME:AEST
DTSTART:20260404T160000
END:STANDARD
BEGIN:DAYLIGHT
TZOFFSETFROM:+1000
TZOFFSETTO:+1100
TZNAME:AEDT
DTSTART:20261003T160000
END:DAYLIGHT
BEGIN:STANDARD
TZOFFSETFROM:+1100
TZOFFSETTO:+1000
TZNAME:AEST
DTSTART:20270403T160000
END:STANDARD
BEGIN:DAYLIGHT
TZOFFSETFROM:+1000
TZOFFSETTO:+1100
TZNAME:AEDT
DTSTART:20271002T160000
END:DAYLIGHT
END:VTIMEZONE
BEGIN:VEVENT
DTSTART;TZID=Australia/Melbourne:20260415T090000
DTEND;TZID=Australia/Melbourne:20260415T110000
DTSTAMP:20260422T031227
CREATED:20260311T014512Z
LAST-MODIFIED:20260328T042634Z
UID:10002067-1776243600-1776250800@visitkangaroovalley.com.au
SUMMARY:Easter Holidays Farm Tour at Winderong Farm
DESCRIPTION:Come meet and interact the with the animals at Winderong Farm. Learn how we milk our Jersey cows and about calf-at-foot dairying. \nMeet our turkeys and see how we use our chickens to fertilise the orchard and garden. Explore\, wander and taste your way through the garden and meet with our team of growers. Enjoy some of our home made refreshing soda and a taste of our seasonal produce. \nThis is a great tour for families and animal lovers. \nFeel free to stay after the tour to explore and enjoy the farm – even have a swim in the creek or bring a picnic to enjoy. \n\nWhen: Wednesday 15th April – 9:00 -11:00\nLocation: Winderong Farm\, Upper Kangaroo River\nCost: $20 per person – or a Family ticket for $50. Tickets include a taste of our homemade soda and some farm-grown goodies.\nTickets are limited. A minimum number of participants will be required to go ahead.Winderong is a working farm with uneven ground and various hazards. Please wear appropriate footwear. All children MUST be accompanied by a parent or guardian.About Us:\n\nWinderong Farm is an experimental project encompassing permaculture\, regenerative agriculture\, bush regeneration\, sustainability and communal living. Our farm is set on 810 acres of stunning wilderness and farmland in beautiful Dharawal country\, Kangaroo Valley. Our growing community consists of around 12-15 full-time residents\, as well as local employees and a host of beautiful and much-loved farm animals and wildlife. We aim to embody the permaculture principle of “we are nature working” and develop a deep understanding and respect for the land we steward\, all the while aiming to regenerate the earth and learn from her and each other. 
URL:https://visitkangaroovalley.com.au/event/easter-holidays-farm-tour-at-winderong-farm/
LOCATION:Winderong Farm\, 205 Gerringong Creek Rd\, Upper Kangaroo River\, NSW\, 2577\, Australia
CATEGORIES:Culture,Food & Wine,workshops
ATTACH;FMTTYPE=image/jpeg:https://visitkangaroovalley.com.au/wp-content/uploads/2026/03/winderong_tours.jpg
END:VEVENT
END:VCALENDAR