BEGIN:VCALENDAR
VERSION:2.0
PRODID:-//Kangaroo Valley - South Coast NSW - ECPv6.15.18//NONSGML v1.0//EN
CALSCALE:GREGORIAN
METHOD:PUBLISH
X-WR-CALNAME:Kangaroo Valley - South Coast NSW
X-ORIGINAL-URL:https://visitkangaroovalley.com.au
X-WR-CALDESC:Events for Kangaroo Valley - South Coast NSW
REFRESH-INTERVAL;VALUE=DURATION:PT1H
X-Robots-Tag:noindex
X-PUBLISHED-TTL:PT1H
BEGIN:VTIMEZONE
TZID:Australia/Melbourne
BEGIN:STANDARD
TZOFFSETFROM:+1100
TZOFFSETTO:+1000
TZNAME:AEST
DTSTART:20250405T160000
END:STANDARD
BEGIN:DAYLIGHT
TZOFFSETFROM:+1000
TZOFFSETTO:+1100
TZNAME:AEDT
DTSTART:20251004T160000
END:DAYLIGHT
BEGIN:STANDARD
TZOFFSETFROM:+1100
TZOFFSETTO:+1000
TZNAME:AEST
DTSTART:20260404T160000
END:STANDARD
BEGIN:DAYLIGHT
TZOFFSETFROM:+1000
TZOFFSETTO:+1100
TZNAME:AEDT
DTSTART:20261003T160000
END:DAYLIGHT
BEGIN:STANDARD
TZOFFSETFROM:+1100
TZOFFSETTO:+1000
TZNAME:AEST
DTSTART:20270403T160000
END:STANDARD
BEGIN:DAYLIGHT
TZOFFSETFROM:+1000
TZOFFSETTO:+1100
TZNAME:AEDT
DTSTART:20271002T160000
END:DAYLIGHT
END:VTIMEZONE
BEGIN:VEVENT
DTSTART;TZID=Australia/Melbourne:20260516T150000
DTEND;TZID=Australia/Melbourne:20260516T233000
DTSTAMP:20260422T044613
CREATED:20250225T095609Z
LAST-MODIFIED:20260225T051701Z
UID:10001553-1778943600-1778974200@visitkangaroovalley.com.au
SUMMARY:Kangaroo Valley Reggae Fest
DESCRIPTION:Country Pub Hosts International Reggae Lineup \nBack for its third year on May 16th\, 2026\, the KV Reggae Fest\, the “little” festival in the back paddock of The Friendly Inn in Kangaroo Valley NSW\, has locked in its most ambitious lineup yet. Headlining is the massive dub-fusion collective SUB-TRIBE (New Zealand)\, bringing a raw\, bass-heavy sound that has filled stages across Europe and Australasia. They are joined by the Afro-Caribbean rhythms of THE STRIDES and the legendary West African Malian guitarist MOUSSA DIAKITE & WASSADO\, who brings the hypnotic sounds of the “Super Rail Band de Bamako” to the South Coast hinterland. \nForget the long lines for a drink or the traffic hassle of city festivals. The Friendly Inn in Kangaroo Valley\, located just two hours from Sydney and Canberra\, is proving that world-class music sounds better in fresh country air. The festival was born from a simple idea: bringing the global sounds of roots and reggae to the South Coast without the hype or headaches of a big event. \n“We treat it like a big weekend pub session\,” Festival manager Caroline Lenati says. “No VIP tents\, no complicated wristbands. Just a proper country pub\, a massive beer garden\, and a sound system that does the bands justice.” If you want to sit at the back with the dog\, you can. If you want to get sweaty down the front for Sub-Tribe\, you can do that too. \nRounding out the bill are Wollongong favourites Ren & The Rudeboys & Beatmeisters\, from Sydney all-female roots outfit The Lady Beans\, and Canberra’s ska/jazz fusion lineup of This Way Orkestra. Gates are from 2pm and the valley will be rocking through until midnight with the beer garden full of Jamaican street eats\, smoked BBQ\, market stalls\, drumming workshops\, dance classes and kids’ activities. \nWith tickets priced at $55 for adults and $35 for teenagers\, and kids under 12 free\, KV Reggae Fest is aimed to be accessible for families to enjoy great music together. Pack the camp chairs and a picnic rug and get ready for a day of smooth funky beats and great eats on May 16th\, 2026 at The Friendly Inn in Kangaroo Valley NSW. For more details and tickets visit kvreggaefest.com \nEVENT DETAILS \nWhat: KV Reggae Fest 2026\nWhen: Saturday\, 16th May 2026 | Gates Open 2pm\nWhere: The Friendly Inn\, 159 Moss Vale Rd\, Kangaroo Valley\nLineup: Sub-Tribe (NZ)\, The Strides\, Moussa Diakite & Wassado\, Ren & The Rudeboys + Beatmeisters\, The Lady Beans\, This Way Orkestra.\nTickets: Adults $55 | Teenagers $35 | Kids under 12 Free – kvreggaefest.com
URL:https://visitkangaroovalley.com.au/event/kangaroo-valley-reggae-fest/
LOCATION:The Friendly Inn\, 159 Moss Vale Rd\, Kangaroo Valley\, NSW\, 2577\, Australia
CATEGORIES:Music & Festivals,Ticketed
ATTACH;FMTTYPE=image/png:https://visitkangaroovalley.com.au/wp-content/uploads/2025/02/subtribeatdw.png
ORGANIZER;CN="The Friendly Inn":MAILTO:mail@thefriendlyinn.com.au
END:VEVENT
END:VCALENDAR