BEGIN:VCALENDAR
VERSION:2.0
PRODID:-//Kangaroo Valley - South Coast NSW - ECPv6.15.18//NONSGML v1.0//EN
CALSCALE:GREGORIAN
METHOD:PUBLISH
X-WR-CALNAME:Kangaroo Valley - South Coast NSW
X-ORIGINAL-URL:https://visitkangaroovalley.com.au
X-WR-CALDESC:Events for Kangaroo Valley - South Coast NSW
REFRESH-INTERVAL;VALUE=DURATION:PT1H
X-Robots-Tag:noindex
X-PUBLISHED-TTL:PT1H
BEGIN:VTIMEZONE
TZID:Australia/Melbourne
BEGIN:STANDARD
TZOFFSETFROM:+1100
TZOFFSETTO:+1000
TZNAME:AEST
DTSTART:20250405T160000
END:STANDARD
BEGIN:DAYLIGHT
TZOFFSETFROM:+1000
TZOFFSETTO:+1100
TZNAME:AEDT
DTSTART:20251004T160000
END:DAYLIGHT
BEGIN:STANDARD
TZOFFSETFROM:+1100
TZOFFSETTO:+1000
TZNAME:AEST
DTSTART:20260404T160000
END:STANDARD
BEGIN:DAYLIGHT
TZOFFSETFROM:+1000
TZOFFSETTO:+1100
TZNAME:AEDT
DTSTART:20261003T160000
END:DAYLIGHT
BEGIN:STANDARD
TZOFFSETFROM:+1100
TZOFFSETTO:+1000
TZNAME:AEST
DTSTART:20270403T160000
END:STANDARD
BEGIN:DAYLIGHT
TZOFFSETFROM:+1000
TZOFFSETTO:+1100
TZNAME:AEDT
DTSTART:20271002T160000
END:DAYLIGHT
END:VTIMEZONE
BEGIN:VEVENT
DTSTART;TZID=Australia/Melbourne:20260308T090000
DTEND;TZID=Australia/Melbourne:20260308T130000
DTSTAMP:20260422T044628
CREATED:20241031T030225Z
LAST-MODIFIED:20241031T031154Z
UID:10000323-1772960400-1772974800@visitkangaroovalley.com.au
SUMMARY:Farmers Markets
DESCRIPTION:Positively supporting Kangaroo Valley\, The Shoalhaven and the Southern Highlands agriculture\, healthier communities and more sustainable food choices direct from the growers. Meat\, fruit\, vegetables\, herbs\, eggs\, jams\, pickles\, pastries\, cakes\, local honey\, biscuits\, olive oil\, and lots more! Free local live music!
URL:https://visitkangaroovalley.com.au/event/farmers-market/2026-03-08/
LOCATION:Friendly Inn Community Garden\, 159 Moss Vale Rd\, Kangaroo Valley\, NSW\, 2577\, Australia
CATEGORIES:Markets
ATTACH;FMTTYPE=image/jpeg:https://visitkangaroovalley.com.au/wp-content/uploads/2021/06/markets.jpeg
END:VEVENT
BEGIN:VEVENT
DTSTART;VALUE=DATE:20260321
DTEND;VALUE=DATE:20260322
DTSTAMP:20260422T044628
CREATED:20251208T033509Z
LAST-MODIFIED:20251208T033509Z
UID:10002050-1774080000-1774112400@visitkangaroovalley.com.au
SUMMARY:Lead Light Workshop
DESCRIPTION:A craft lost in time with this two-day Leadlight Workshop right here in Kangaroo Valley. \nAll tools\, glass\, and expert tuition includedOnly 4 spots per class – perfect for focused\, hands-on learningTake home your own beautiful finished piece \nLearn from the talented Lance Brown – email for details: lancebrown@bigpond.com Mobile: 0425 346 087Let your creativity shine through coloured glass!
URL:https://visitkangaroovalley.com.au/event/lead-light-workshop-2/2026-03-21/
LOCATION:Kangaroo Valley Leadlights\, 116 Moss Vale Road\, Kangaroo Valley\, NSW\, 2577\, Australia
CATEGORIES:Culture,workshops
ATTACH;FMTTYPE=image/jpeg:https://visitkangaroovalley.com.au/wp-content/uploads/2025/04/481783653_2484473601884018_5070696423026492668_n.jpg
END:VEVENT
BEGIN:VEVENT
DTSTART;TZID=Australia/Melbourne:20260321T080000
DTEND;TZID=Australia/Melbourne:20260321T170000
DTSTAMP:20260422T044628
CREATED:20260311T025226Z
LAST-MODIFIED:20260311T025226Z
UID:10002068-1774080000-1774112400@visitkangaroovalley.com.au
SUMMARY:The Kate Wadey Quartet
DESCRIPTION:Don’t miss the chance to see The Kate Wadey Quartet – here in Kangaroo Valley on Saturday 21 March 5pm presented by Arts in the Valley\n\n\n\nAn upbeat and entertaining program of well-known and original works\, celebrating both classic and contemporary jazz styles.\n\n\n\nExpect to enjoy well-known standards from the American Songbook as sung by artists such as Ella Fitzgerald and Billie Holiday\, as well as some of Kate’s own compositions. The band will showcase the very best of Australian jazz musicianship. The Kate Wadey Quartet’s toe-tapping interpretations will leave you with a spring in your step and a song in your heart.\n\n\n\nOne concert only.\nBook now at https://events.humanitix.com/kate-wadey-jazz-in-the-valley
URL:https://visitkangaroovalley.com.au/event/the-kate-wadey-quartet/
LOCATION:Kangaroo Valley Hall\, 179 Moss Vale Rd\, Kangaroo Valley\, NSW\, 2577\, Australia
CATEGORIES:Food & Wine,Music & Festivals
ATTACH;FMTTYPE=image/jpeg:https://visitkangaroovalley.com.au/wp-content/uploads/2026/03/629185866_917290864285177_5303632438213069302_n.jpg
ORGANIZER;CN="Arts in the Valley":MAILTO:info@artsinthevaley.net.au
END:VEVENT
BEGIN:VEVENT
DTSTART;VALUE=DATE:20260322
DTEND;VALUE=DATE:20260323
DTSTAMP:20260422T044629
CREATED:20251208T033509Z
LAST-MODIFIED:20251208T033509Z
UID:10002051-1774166400-1774198800@visitkangaroovalley.com.au
SUMMARY:Lead Light Workshop
DESCRIPTION:A craft lost in time with this two-day Leadlight Workshop right here in Kangaroo Valley. \nAll tools\, glass\, and expert tuition includedOnly 4 spots per class – perfect for focused\, hands-on learningTake home your own beautiful finished piece \nLearn from the talented Lance Brown – email for details: lancebrown@bigpond.com Mobile: 0425 346 087Let your creativity shine through coloured glass!
URL:https://visitkangaroovalley.com.au/event/lead-light-workshop-2/2026-03-22/
LOCATION:Kangaroo Valley Leadlights\, 116 Moss Vale Road\, Kangaroo Valley\, NSW\, 2577\, Australia
CATEGORIES:Culture,workshops
ATTACH;FMTTYPE=image/jpeg:https://visitkangaroovalley.com.au/wp-content/uploads/2025/04/481783653_2484473601884018_5070696423026492668_n.jpg
END:VEVENT
END:VCALENDAR