BEGIN:VCALENDAR
VERSION:2.0
PRODID:-//Kangaroo Valley - South Coast NSW - ECPv6.15.18//NONSGML v1.0//EN
CALSCALE:GREGORIAN
METHOD:PUBLISH
X-WR-CALNAME:Kangaroo Valley - South Coast NSW
X-ORIGINAL-URL:https://visitkangaroovalley.com.au
X-WR-CALDESC:Events for Kangaroo Valley - South Coast NSW
REFRESH-INTERVAL;VALUE=DURATION:PT1H
X-Robots-Tag:noindex
X-PUBLISHED-TTL:PT1H
BEGIN:VTIMEZONE
TZID:Australia/Melbourne
BEGIN:STANDARD
TZOFFSETFROM:+1100
TZOFFSETTO:+1000
TZNAME:AEST
DTSTART:20250405T160000
END:STANDARD
BEGIN:DAYLIGHT
TZOFFSETFROM:+1000
TZOFFSETTO:+1100
TZNAME:AEDT
DTSTART:20251004T160000
END:DAYLIGHT
BEGIN:STANDARD
TZOFFSETFROM:+1100
TZOFFSETTO:+1000
TZNAME:AEST
DTSTART:20260404T160000
END:STANDARD
BEGIN:DAYLIGHT
TZOFFSETFROM:+1000
TZOFFSETTO:+1100
TZNAME:AEDT
DTSTART:20261003T160000
END:DAYLIGHT
BEGIN:STANDARD
TZOFFSETFROM:+1100
TZOFFSETTO:+1000
TZNAME:AEST
DTSTART:20270403T160000
END:STANDARD
BEGIN:DAYLIGHT
TZOFFSETFROM:+1000
TZOFFSETTO:+1100
TZNAME:AEDT
DTSTART:20271002T160000
END:DAYLIGHT
END:VTIMEZONE
BEGIN:VEVENT
DTSTART;VALUE=DATE:20260502
DTEND;VALUE=DATE:20260503
DTSTAMP:20260421T222436
CREATED:20251208T033509Z
LAST-MODIFIED:20251208T033509Z
UID:10002052-1777708800-1777741200@visitkangaroovalley.com.au
SUMMARY:Lead Light Workshop
DESCRIPTION:A craft lost in time with this two-day Leadlight Workshop right here in Kangaroo Valley. \nAll tools\, glass\, and expert tuition includedOnly 4 spots per class – perfect for focused\, hands-on learningTake home your own beautiful finished piece \nLearn from the talented Lance Brown – email for details: lancebrown@bigpond.com Mobile: 0425 346 087Let your creativity shine through coloured glass!
URL:https://visitkangaroovalley.com.au/event/lead-light-workshop-2/2026-05-02/
LOCATION:Kangaroo Valley Leadlights\, 116 Moss Vale Road\, Kangaroo Valley\, NSW\, 2577\, Australia
CATEGORIES:Culture,workshops
ATTACH;FMTTYPE=image/jpeg:https://visitkangaroovalley.com.au/wp-content/uploads/2025/04/481783653_2484473601884018_5070696423026492668_n.jpg
END:VEVENT
BEGIN:VEVENT
DTSTART;VALUE=DATE:20260503
DTEND;VALUE=DATE:20260504
DTSTAMP:20260421T222436
CREATED:20251208T033509Z
LAST-MODIFIED:20251208T033509Z
UID:10002053-1777795200-1777827600@visitkangaroovalley.com.au
SUMMARY:Lead Light Workshop
DESCRIPTION:A craft lost in time with this two-day Leadlight Workshop right here in Kangaroo Valley. \nAll tools\, glass\, and expert tuition includedOnly 4 spots per class – perfect for focused\, hands-on learningTake home your own beautiful finished piece \nLearn from the talented Lance Brown – email for details: lancebrown@bigpond.com Mobile: 0425 346 087Let your creativity shine through coloured glass!
URL:https://visitkangaroovalley.com.au/event/lead-light-workshop-2/2026-05-03/
LOCATION:Kangaroo Valley Leadlights\, 116 Moss Vale Road\, Kangaroo Valley\, NSW\, 2577\, Australia
CATEGORIES:Culture,workshops
ATTACH;FMTTYPE=image/jpeg:https://visitkangaroovalley.com.au/wp-content/uploads/2025/04/481783653_2484473601884018_5070696423026492668_n.jpg
END:VEVENT
BEGIN:VEVENT
DTSTART;VALUE=DATE:20260530
DTEND;VALUE=DATE:20260531
DTSTAMP:20260421T222436
CREATED:20251208T033509Z
LAST-MODIFIED:20251208T033509Z
UID:10002054-1780128000-1780160400@visitkangaroovalley.com.au
SUMMARY:Lead Light Workshop
DESCRIPTION:A craft lost in time with this two-day Leadlight Workshop right here in Kangaroo Valley. \nAll tools\, glass\, and expert tuition includedOnly 4 spots per class – perfect for focused\, hands-on learningTake home your own beautiful finished piece \nLearn from the talented Lance Brown – email for details: lancebrown@bigpond.com Mobile: 0425 346 087Let your creativity shine through coloured glass!
URL:https://visitkangaroovalley.com.au/event/lead-light-workshop-2/2026-05-30/
LOCATION:Kangaroo Valley Leadlights\, 116 Moss Vale Road\, Kangaroo Valley\, NSW\, 2577\, Australia
CATEGORIES:Culture,workshops
ATTACH;FMTTYPE=image/jpeg:https://visitkangaroovalley.com.au/wp-content/uploads/2025/04/481783653_2484473601884018_5070696423026492668_n.jpg
END:VEVENT
BEGIN:VEVENT
DTSTART;VALUE=DATE:20260531
DTEND;VALUE=DATE:20260601
DTSTAMP:20260421T222436
CREATED:20251208T033509Z
LAST-MODIFIED:20251208T033509Z
UID:10002055-1780214400-1780246800@visitkangaroovalley.com.au
SUMMARY:Lead Light Workshop
DESCRIPTION:A craft lost in time with this two-day Leadlight Workshop right here in Kangaroo Valley. \nAll tools\, glass\, and expert tuition includedOnly 4 spots per class – perfect for focused\, hands-on learningTake home your own beautiful finished piece \nLearn from the talented Lance Brown – email for details: lancebrown@bigpond.com Mobile: 0425 346 087Let your creativity shine through coloured glass!
URL:https://visitkangaroovalley.com.au/event/lead-light-workshop-2/2026-05-31/
LOCATION:Kangaroo Valley Leadlights\, 116 Moss Vale Road\, Kangaroo Valley\, NSW\, 2577\, Australia
CATEGORIES:Culture,workshops
ATTACH;FMTTYPE=image/jpeg:https://visitkangaroovalley.com.au/wp-content/uploads/2025/04/481783653_2484473601884018_5070696423026492668_n.jpg
END:VEVENT
BEGIN:VEVENT
DTSTART;VALUE=DATE:20260620
DTEND;VALUE=DATE:20260621
DTSTAMP:20260421T222436
CREATED:20251208T033509Z
LAST-MODIFIED:20251208T033509Z
UID:10002056-1781942400-1781974800@visitkangaroovalley.com.au
SUMMARY:Lead Light Workshop
DESCRIPTION:A craft lost in time with this two-day Leadlight Workshop right here in Kangaroo Valley. \nAll tools\, glass\, and expert tuition includedOnly 4 spots per class – perfect for focused\, hands-on learningTake home your own beautiful finished piece \nLearn from the talented Lance Brown – email for details: lancebrown@bigpond.com Mobile: 0425 346 087Let your creativity shine through coloured glass!
URL:https://visitkangaroovalley.com.au/event/lead-light-workshop-2/2026-06-20/
LOCATION:Kangaroo Valley Leadlights\, 116 Moss Vale Road\, Kangaroo Valley\, NSW\, 2577\, Australia
CATEGORIES:Culture,workshops
ATTACH;FMTTYPE=image/jpeg:https://visitkangaroovalley.com.au/wp-content/uploads/2025/04/481783653_2484473601884018_5070696423026492668_n.jpg
END:VEVENT
BEGIN:VEVENT
DTSTART;VALUE=DATE:20260621
DTEND;VALUE=DATE:20260622
DTSTAMP:20260421T222436
CREATED:20251208T033509Z
LAST-MODIFIED:20251208T033509Z
UID:10002057-1782028800-1782061200@visitkangaroovalley.com.au
SUMMARY:Lead Light Workshop
DESCRIPTION:A craft lost in time with this two-day Leadlight Workshop right here in Kangaroo Valley. \nAll tools\, glass\, and expert tuition includedOnly 4 spots per class – perfect for focused\, hands-on learningTake home your own beautiful finished piece \nLearn from the talented Lance Brown – email for details: lancebrown@bigpond.com Mobile: 0425 346 087Let your creativity shine through coloured glass!
URL:https://visitkangaroovalley.com.au/event/lead-light-workshop-2/2026-06-21/
LOCATION:Kangaroo Valley Leadlights\, 116 Moss Vale Road\, Kangaroo Valley\, NSW\, 2577\, Australia
CATEGORIES:Culture,workshops
ATTACH;FMTTYPE=image/jpeg:https://visitkangaroovalley.com.au/wp-content/uploads/2025/04/481783653_2484473601884018_5070696423026492668_n.jpg
END:VEVENT
BEGIN:VEVENT
DTSTART;VALUE=DATE:20260725
DTEND;VALUE=DATE:20260726
DTSTAMP:20260421T222436
CREATED:20251208T033509Z
LAST-MODIFIED:20251208T033509Z
UID:10002058-1784966400-1784998800@visitkangaroovalley.com.au
SUMMARY:Lead Light Workshop
DESCRIPTION:A craft lost in time with this two-day Leadlight Workshop right here in Kangaroo Valley. \nAll tools\, glass\, and expert tuition includedOnly 4 spots per class – perfect for focused\, hands-on learningTake home your own beautiful finished piece \nLearn from the talented Lance Brown – email for details: lancebrown@bigpond.com Mobile: 0425 346 087Let your creativity shine through coloured glass!
URL:https://visitkangaroovalley.com.au/event/lead-light-workshop-2/2026-07-25/
LOCATION:Kangaroo Valley Leadlights\, 116 Moss Vale Road\, Kangaroo Valley\, NSW\, 2577\, Australia
CATEGORIES:Culture,workshops
ATTACH;FMTTYPE=image/jpeg:https://visitkangaroovalley.com.au/wp-content/uploads/2025/04/481783653_2484473601884018_5070696423026492668_n.jpg
END:VEVENT
BEGIN:VEVENT
DTSTART;VALUE=DATE:20260726
DTEND;VALUE=DATE:20260727
DTSTAMP:20260421T222436
CREATED:20251208T033509Z
LAST-MODIFIED:20251208T033509Z
UID:10002059-1785052800-1785085200@visitkangaroovalley.com.au
SUMMARY:Lead Light Workshop
DESCRIPTION:A craft lost in time with this two-day Leadlight Workshop right here in Kangaroo Valley. \nAll tools\, glass\, and expert tuition includedOnly 4 spots per class – perfect for focused\, hands-on learningTake home your own beautiful finished piece \nLearn from the talented Lance Brown – email for details: lancebrown@bigpond.com Mobile: 0425 346 087Let your creativity shine through coloured glass!
URL:https://visitkangaroovalley.com.au/event/lead-light-workshop-2/2026-07-26/
LOCATION:Kangaroo Valley Leadlights\, 116 Moss Vale Road\, Kangaroo Valley\, NSW\, 2577\, Australia
CATEGORIES:Culture,workshops
ATTACH;FMTTYPE=image/jpeg:https://visitkangaroovalley.com.au/wp-content/uploads/2025/04/481783653_2484473601884018_5070696423026492668_n.jpg
END:VEVENT
BEGIN:VEVENT
DTSTART;VALUE=DATE:20260808
DTEND;VALUE=DATE:20260809
DTSTAMP:20260421T222436
CREATED:20251208T033509Z
LAST-MODIFIED:20251208T033509Z
UID:10002060-1786176000-1786208400@visitkangaroovalley.com.au
SUMMARY:Lead Light Workshop
DESCRIPTION:A craft lost in time with this two-day Leadlight Workshop right here in Kangaroo Valley. \nAll tools\, glass\, and expert tuition includedOnly 4 spots per class – perfect for focused\, hands-on learningTake home your own beautiful finished piece \nLearn from the talented Lance Brown – email for details: lancebrown@bigpond.com Mobile: 0425 346 087Let your creativity shine through coloured glass!
URL:https://visitkangaroovalley.com.au/event/lead-light-workshop-2/2026-08-08/
LOCATION:Kangaroo Valley Leadlights\, 116 Moss Vale Road\, Kangaroo Valley\, NSW\, 2577\, Australia
CATEGORIES:Culture,workshops
ATTACH;FMTTYPE=image/jpeg:https://visitkangaroovalley.com.au/wp-content/uploads/2025/04/481783653_2484473601884018_5070696423026492668_n.jpg
END:VEVENT
BEGIN:VEVENT
DTSTART;VALUE=DATE:20260809
DTEND;VALUE=DATE:20260810
DTSTAMP:20260421T222436
CREATED:20251208T033509Z
LAST-MODIFIED:20251208T033509Z
UID:10002061-1786262400-1786294800@visitkangaroovalley.com.au
SUMMARY:Lead Light Workshop
DESCRIPTION:A craft lost in time with this two-day Leadlight Workshop right here in Kangaroo Valley. \nAll tools\, glass\, and expert tuition includedOnly 4 spots per class – perfect for focused\, hands-on learningTake home your own beautiful finished piece \nLearn from the talented Lance Brown – email for details: lancebrown@bigpond.com Mobile: 0425 346 087Let your creativity shine through coloured glass!
URL:https://visitkangaroovalley.com.au/event/lead-light-workshop-2/2026-08-09/
LOCATION:Kangaroo Valley Leadlights\, 116 Moss Vale Road\, Kangaroo Valley\, NSW\, 2577\, Australia
CATEGORIES:Culture,workshops
ATTACH;FMTTYPE=image/jpeg:https://visitkangaroovalley.com.au/wp-content/uploads/2025/04/481783653_2484473601884018_5070696423026492668_n.jpg
END:VEVENT
BEGIN:VEVENT
DTSTART;VALUE=DATE:20260919
DTEND;VALUE=DATE:20260920
DTSTAMP:20260421T222436
CREATED:20251208T033509Z
LAST-MODIFIED:20251208T033509Z
UID:10002062-1789804800-1789837200@visitkangaroovalley.com.au
SUMMARY:Lead Light Workshop
DESCRIPTION:A craft lost in time with this two-day Leadlight Workshop right here in Kangaroo Valley. \nAll tools\, glass\, and expert tuition includedOnly 4 spots per class – perfect for focused\, hands-on learningTake home your own beautiful finished piece \nLearn from the talented Lance Brown – email for details: lancebrown@bigpond.com Mobile: 0425 346 087Let your creativity shine through coloured glass!
URL:https://visitkangaroovalley.com.au/event/lead-light-workshop-2/2026-09-19/
LOCATION:Kangaroo Valley Leadlights\, 116 Moss Vale Road\, Kangaroo Valley\, NSW\, 2577\, Australia
CATEGORIES:Culture,workshops
ATTACH;FMTTYPE=image/jpeg:https://visitkangaroovalley.com.au/wp-content/uploads/2025/04/481783653_2484473601884018_5070696423026492668_n.jpg
END:VEVENT
BEGIN:VEVENT
DTSTART;VALUE=DATE:20260920
DTEND;VALUE=DATE:20260921
DTSTAMP:20260421T222436
CREATED:20251208T033509Z
LAST-MODIFIED:20251208T033509Z
UID:10002063-1789891200-1789923600@visitkangaroovalley.com.au
SUMMARY:Lead Light Workshop
DESCRIPTION:A craft lost in time with this two-day Leadlight Workshop right here in Kangaroo Valley. \nAll tools\, glass\, and expert tuition includedOnly 4 spots per class – perfect for focused\, hands-on learningTake home your own beautiful finished piece \nLearn from the talented Lance Brown – email for details: lancebrown@bigpond.com Mobile: 0425 346 087Let your creativity shine through coloured glass!
URL:https://visitkangaroovalley.com.au/event/lead-light-workshop-2/2026-09-20/
LOCATION:Kangaroo Valley Leadlights\, 116 Moss Vale Road\, Kangaroo Valley\, NSW\, 2577\, Australia
CATEGORIES:Culture,workshops
ATTACH;FMTTYPE=image/jpeg:https://visitkangaroovalley.com.au/wp-content/uploads/2025/04/481783653_2484473601884018_5070696423026492668_n.jpg
END:VEVENT
BEGIN:VEVENT
DTSTART;VALUE=DATE:20261107
DTEND;VALUE=DATE:20261108
DTSTAMP:20260421T222436
CREATED:20251208T033509Z
LAST-MODIFIED:20251208T033509Z
UID:10002064-1794038400-1794070800@visitkangaroovalley.com.au
SUMMARY:Lead Light Workshop
DESCRIPTION:A craft lost in time with this two-day Leadlight Workshop right here in Kangaroo Valley. \nAll tools\, glass\, and expert tuition includedOnly 4 spots per class – perfect for focused\, hands-on learningTake home your own beautiful finished piece \nLearn from the talented Lance Brown – email for details: lancebrown@bigpond.com Mobile: 0425 346 087Let your creativity shine through coloured glass!
URL:https://visitkangaroovalley.com.au/event/lead-light-workshop-2/2026-11-07/
LOCATION:Kangaroo Valley Leadlights\, 116 Moss Vale Road\, Kangaroo Valley\, NSW\, 2577\, Australia
CATEGORIES:Culture,workshops
ATTACH;FMTTYPE=image/jpeg:https://visitkangaroovalley.com.au/wp-content/uploads/2025/04/481783653_2484473601884018_5070696423026492668_n.jpg
END:VEVENT
BEGIN:VEVENT
DTSTART;VALUE=DATE:20261108
DTEND;VALUE=DATE:20261109
DTSTAMP:20260421T222436
CREATED:20251208T033509Z
LAST-MODIFIED:20251208T033509Z
UID:10002065-1794124800-1794157200@visitkangaroovalley.com.au
SUMMARY:Lead Light Workshop
DESCRIPTION:A craft lost in time with this two-day Leadlight Workshop right here in Kangaroo Valley. \nAll tools\, glass\, and expert tuition includedOnly 4 spots per class – perfect for focused\, hands-on learningTake home your own beautiful finished piece \nLearn from the talented Lance Brown – email for details: lancebrown@bigpond.com Mobile: 0425 346 087Let your creativity shine through coloured glass!
URL:https://visitkangaroovalley.com.au/event/lead-light-workshop-2/2026-11-08/
LOCATION:Kangaroo Valley Leadlights\, 116 Moss Vale Road\, Kangaroo Valley\, NSW\, 2577\, Australia
CATEGORIES:Culture,workshops
ATTACH;FMTTYPE=image/jpeg:https://visitkangaroovalley.com.au/wp-content/uploads/2025/04/481783653_2484473601884018_5070696423026492668_n.jpg
END:VEVENT
END:VCALENDAR