BEGIN:VCALENDAR
VERSION:2.0
PRODID:-//Kangaroo Valley - South Coast NSW - ECPv6.15.18//NONSGML v1.0//EN
CALSCALE:GREGORIAN
METHOD:PUBLISH
X-WR-CALNAME:Kangaroo Valley - South Coast NSW
X-ORIGINAL-URL:https://visitkangaroovalley.com.au
X-WR-CALDESC:Events for Kangaroo Valley - South Coast NSW
REFRESH-INTERVAL;VALUE=DURATION:PT1H
X-Robots-Tag:noindex
X-PUBLISHED-TTL:PT1H
BEGIN:VTIMEZONE
TZID:Australia/Melbourne
BEGIN:STANDARD
TZOFFSETFROM:+1100
TZOFFSETTO:+1000
TZNAME:AEST
DTSTART:20250405T160000
END:STANDARD
BEGIN:DAYLIGHT
TZOFFSETFROM:+1000
TZOFFSETTO:+1100
TZNAME:AEDT
DTSTART:20251004T160000
END:DAYLIGHT
BEGIN:STANDARD
TZOFFSETFROM:+1100
TZOFFSETTO:+1000
TZNAME:AEST
DTSTART:20260404T160000
END:STANDARD
BEGIN:DAYLIGHT
TZOFFSETFROM:+1000
TZOFFSETTO:+1100
TZNAME:AEDT
DTSTART:20261003T160000
END:DAYLIGHT
BEGIN:STANDARD
TZOFFSETFROM:+1100
TZOFFSETTO:+1000
TZNAME:AEST
DTSTART:20270403T160000
END:STANDARD
BEGIN:DAYLIGHT
TZOFFSETFROM:+1000
TZOFFSETTO:+1100
TZNAME:AEDT
DTSTART:20271002T160000
END:DAYLIGHT
BEGIN:STANDARD
TZOFFSETFROM:+1100
TZOFFSETTO:+1000
TZNAME:AEST
DTSTART:20280401T160000
END:STANDARD
BEGIN:DAYLIGHT
TZOFFSETFROM:+1000
TZOFFSETTO:+1100
TZNAME:AEDT
DTSTART:20280930T160000
END:DAYLIGHT
BEGIN:STANDARD
TZOFFSETFROM:+1100
TZOFFSETTO:+1000
TZNAME:AEST
DTSTART:20290331T160000
END:STANDARD
BEGIN:DAYLIGHT
TZOFFSETFROM:+1000
TZOFFSETTO:+1100
TZNAME:AEDT
DTSTART:20291006T160000
END:DAYLIGHT
END:VTIMEZONE
BEGIN:VEVENT
DTSTART;TZID=Australia/Melbourne:20260510T090000
DTEND;TZID=Australia/Melbourne:20260510T130000
DTSTAMP:20260421T223725
CREATED:20241031T030225Z
LAST-MODIFIED:20241031T031154Z
UID:10000325-1778403600-1778418000@visitkangaroovalley.com.au
SUMMARY:Farmers Markets
DESCRIPTION:Positively supporting Kangaroo Valley\, The Shoalhaven and the Southern Highlands agriculture\, healthier communities and more sustainable food choices direct from the growers. Meat\, fruit\, vegetables\, herbs\, eggs\, jams\, pickles\, pastries\, cakes\, local honey\, biscuits\, olive oil\, and lots more! Free local live music!
URL:https://visitkangaroovalley.com.au/event/farmers-market/2026-05-10/
LOCATION:Friendly Inn Community Garden\, 159 Moss Vale Rd\, Kangaroo Valley\, NSW\, 2577\, Australia
CATEGORIES:Markets
ATTACH;FMTTYPE=image/jpeg:https://visitkangaroovalley.com.au/wp-content/uploads/2021/06/markets.jpeg
END:VEVENT
BEGIN:VEVENT
DTSTART;TZID=Australia/Melbourne:20260614T090000
DTEND;TZID=Australia/Melbourne:20260614T130000
DTSTAMP:20260421T223725
CREATED:20241031T030225Z
LAST-MODIFIED:20241031T031154Z
UID:10000326-1781427600-1781442000@visitkangaroovalley.com.au
SUMMARY:Farmers Markets
DESCRIPTION:Positively supporting Kangaroo Valley\, The Shoalhaven and the Southern Highlands agriculture\, healthier communities and more sustainable food choices direct from the growers. Meat\, fruit\, vegetables\, herbs\, eggs\, jams\, pickles\, pastries\, cakes\, local honey\, biscuits\, olive oil\, and lots more! Free local live music!
URL:https://visitkangaroovalley.com.au/event/farmers-market/2026-06-14/
LOCATION:Friendly Inn Community Garden\, 159 Moss Vale Rd\, Kangaroo Valley\, NSW\, 2577\, Australia
CATEGORIES:Markets
ATTACH;FMTTYPE=image/jpeg:https://visitkangaroovalley.com.au/wp-content/uploads/2021/06/markets.jpeg
END:VEVENT
BEGIN:VEVENT
DTSTART;TZID=Australia/Melbourne:20260712T090000
DTEND;TZID=Australia/Melbourne:20260712T130000
DTSTAMP:20260421T223725
CREATED:20241031T030225Z
LAST-MODIFIED:20241031T031154Z
UID:10000327-1783846800-1783861200@visitkangaroovalley.com.au
SUMMARY:Farmers Markets
DESCRIPTION:Positively supporting Kangaroo Valley\, The Shoalhaven and the Southern Highlands agriculture\, healthier communities and more sustainable food choices direct from the growers. Meat\, fruit\, vegetables\, herbs\, eggs\, jams\, pickles\, pastries\, cakes\, local honey\, biscuits\, olive oil\, and lots more! Free local live music!
URL:https://visitkangaroovalley.com.au/event/farmers-market/2026-07-12/
LOCATION:Friendly Inn Community Garden\, 159 Moss Vale Rd\, Kangaroo Valley\, NSW\, 2577\, Australia
CATEGORIES:Markets
ATTACH;FMTTYPE=image/jpeg:https://visitkangaroovalley.com.au/wp-content/uploads/2021/06/markets.jpeg
END:VEVENT
BEGIN:VEVENT
DTSTART;TZID=Australia/Melbourne:20260809T090000
DTEND;TZID=Australia/Melbourne:20260809T130000
DTSTAMP:20260421T223725
CREATED:20241031T030225Z
LAST-MODIFIED:20241031T031154Z
UID:10000328-1786266000-1786280400@visitkangaroovalley.com.au
SUMMARY:Farmers Markets
DESCRIPTION:Positively supporting Kangaroo Valley\, The Shoalhaven and the Southern Highlands agriculture\, healthier communities and more sustainable food choices direct from the growers. Meat\, fruit\, vegetables\, herbs\, eggs\, jams\, pickles\, pastries\, cakes\, local honey\, biscuits\, olive oil\, and lots more! Free local live music!
URL:https://visitkangaroovalley.com.au/event/farmers-market/2026-08-09/
LOCATION:Friendly Inn Community Garden\, 159 Moss Vale Rd\, Kangaroo Valley\, NSW\, 2577\, Australia
CATEGORIES:Markets
ATTACH;FMTTYPE=image/jpeg:https://visitkangaroovalley.com.au/wp-content/uploads/2021/06/markets.jpeg
END:VEVENT
BEGIN:VEVENT
DTSTART;TZID=Australia/Melbourne:20260913T090000
DTEND;TZID=Australia/Melbourne:20260913T130000
DTSTAMP:20260421T223725
CREATED:20241031T030225Z
LAST-MODIFIED:20241031T031154Z
UID:10000329-1789290000-1789304400@visitkangaroovalley.com.au
SUMMARY:Farmers Markets
DESCRIPTION:Positively supporting Kangaroo Valley\, The Shoalhaven and the Southern Highlands agriculture\, healthier communities and more sustainable food choices direct from the growers. Meat\, fruit\, vegetables\, herbs\, eggs\, jams\, pickles\, pastries\, cakes\, local honey\, biscuits\, olive oil\, and lots more! Free local live music!
URL:https://visitkangaroovalley.com.au/event/farmers-market/2026-09-13/
LOCATION:Friendly Inn Community Garden\, 159 Moss Vale Rd\, Kangaroo Valley\, NSW\, 2577\, Australia
CATEGORIES:Markets
ATTACH;FMTTYPE=image/jpeg:https://visitkangaroovalley.com.au/wp-content/uploads/2021/06/markets.jpeg
END:VEVENT
BEGIN:VEVENT
DTSTART;TZID=Australia/Melbourne:20261011T090000
DTEND;TZID=Australia/Melbourne:20261011T130000
DTSTAMP:20260421T223725
CREATED:20241031T030225Z
LAST-MODIFIED:20241031T031154Z
UID:10000330-1791709200-1791723600@visitkangaroovalley.com.au
SUMMARY:Farmers Markets
DESCRIPTION:Positively supporting Kangaroo Valley\, The Shoalhaven and the Southern Highlands agriculture\, healthier communities and more sustainable food choices direct from the growers. Meat\, fruit\, vegetables\, herbs\, eggs\, jams\, pickles\, pastries\, cakes\, local honey\, biscuits\, olive oil\, and lots more! Free local live music!
URL:https://visitkangaroovalley.com.au/event/farmers-market/2026-10-11/
LOCATION:Friendly Inn Community Garden\, 159 Moss Vale Rd\, Kangaroo Valley\, NSW\, 2577\, Australia
CATEGORIES:Markets
ATTACH;FMTTYPE=image/jpeg:https://visitkangaroovalley.com.au/wp-content/uploads/2021/06/markets.jpeg
END:VEVENT
BEGIN:VEVENT
DTSTART;TZID=Australia/Melbourne:20261108T090000
DTEND;TZID=Australia/Melbourne:20261108T130000
DTSTAMP:20260421T223725
CREATED:20241031T030225Z
LAST-MODIFIED:20241031T031154Z
UID:10000331-1794128400-1794142800@visitkangaroovalley.com.au
SUMMARY:Farmers Markets
DESCRIPTION:Positively supporting Kangaroo Valley\, The Shoalhaven and the Southern Highlands agriculture\, healthier communities and more sustainable food choices direct from the growers. Meat\, fruit\, vegetables\, herbs\, eggs\, jams\, pickles\, pastries\, cakes\, local honey\, biscuits\, olive oil\, and lots more! Free local live music!
URL:https://visitkangaroovalley.com.au/event/farmers-market/2026-11-08/
LOCATION:Friendly Inn Community Garden\, 159 Moss Vale Rd\, Kangaroo Valley\, NSW\, 2577\, Australia
CATEGORIES:Markets
ATTACH;FMTTYPE=image/jpeg:https://visitkangaroovalley.com.au/wp-content/uploads/2021/06/markets.jpeg
END:VEVENT
BEGIN:VEVENT
DTSTART;TZID=Australia/Melbourne:20261213T090000
DTEND;TZID=Australia/Melbourne:20261213T130000
DTSTAMP:20260421T223725
CREATED:20241031T030225Z
LAST-MODIFIED:20241031T031154Z
UID:10000332-1797152400-1797166800@visitkangaroovalley.com.au
SUMMARY:Farmers Markets
DESCRIPTION:Positively supporting Kangaroo Valley\, The Shoalhaven and the Southern Highlands agriculture\, healthier communities and more sustainable food choices direct from the growers. Meat\, fruit\, vegetables\, herbs\, eggs\, jams\, pickles\, pastries\, cakes\, local honey\, biscuits\, olive oil\, and lots more! Free local live music!
URL:https://visitkangaroovalley.com.au/event/farmers-market/2026-12-13/
LOCATION:Friendly Inn Community Garden\, 159 Moss Vale Rd\, Kangaroo Valley\, NSW\, 2577\, Australia
CATEGORIES:Markets
ATTACH;FMTTYPE=image/jpeg:https://visitkangaroovalley.com.au/wp-content/uploads/2021/06/markets.jpeg
END:VEVENT
BEGIN:VEVENT
DTSTART;TZID=Australia/Melbourne:20270110T090000
DTEND;TZID=Australia/Melbourne:20270110T130000
DTSTAMP:20260421T223725
CREATED:20241031T030225Z
LAST-MODIFIED:20241031T031154Z
UID:10000333-1799571600-1799586000@visitkangaroovalley.com.au
SUMMARY:Farmers Markets
DESCRIPTION:Positively supporting Kangaroo Valley\, The Shoalhaven and the Southern Highlands agriculture\, healthier communities and more sustainable food choices direct from the growers. Meat\, fruit\, vegetables\, herbs\, eggs\, jams\, pickles\, pastries\, cakes\, local honey\, biscuits\, olive oil\, and lots more! Free local live music!
URL:https://visitkangaroovalley.com.au/event/farmers-market/2027-01-10/
LOCATION:Friendly Inn Community Garden\, 159 Moss Vale Rd\, Kangaroo Valley\, NSW\, 2577\, Australia
CATEGORIES:Markets
ATTACH;FMTTYPE=image/jpeg:https://visitkangaroovalley.com.au/wp-content/uploads/2021/06/markets.jpeg
END:VEVENT
BEGIN:VEVENT
DTSTART;TZID=Australia/Melbourne:20270214T090000
DTEND;TZID=Australia/Melbourne:20270214T130000
DTSTAMP:20260421T223725
CREATED:20241031T030225Z
LAST-MODIFIED:20241031T031154Z
UID:10000334-1802595600-1802610000@visitkangaroovalley.com.au
SUMMARY:Farmers Markets
DESCRIPTION:Positively supporting Kangaroo Valley\, The Shoalhaven and the Southern Highlands agriculture\, healthier communities and more sustainable food choices direct from the growers. Meat\, fruit\, vegetables\, herbs\, eggs\, jams\, pickles\, pastries\, cakes\, local honey\, biscuits\, olive oil\, and lots more! Free local live music!
URL:https://visitkangaroovalley.com.au/event/farmers-market/2027-02-14/
LOCATION:Friendly Inn Community Garden\, 159 Moss Vale Rd\, Kangaroo Valley\, NSW\, 2577\, Australia
CATEGORIES:Markets
ATTACH;FMTTYPE=image/jpeg:https://visitkangaroovalley.com.au/wp-content/uploads/2021/06/markets.jpeg
END:VEVENT
BEGIN:VEVENT
DTSTART;TZID=Australia/Melbourne:20270314T090000
DTEND;TZID=Australia/Melbourne:20270314T130000
DTSTAMP:20260421T223725
CREATED:20241031T030225Z
LAST-MODIFIED:20241031T031154Z
UID:10000335-1805014800-1805029200@visitkangaroovalley.com.au
SUMMARY:Farmers Markets
DESCRIPTION:Positively supporting Kangaroo Valley\, The Shoalhaven and the Southern Highlands agriculture\, healthier communities and more sustainable food choices direct from the growers. Meat\, fruit\, vegetables\, herbs\, eggs\, jams\, pickles\, pastries\, cakes\, local honey\, biscuits\, olive oil\, and lots more! Free local live music!
URL:https://visitkangaroovalley.com.au/event/farmers-market/2027-03-14/
LOCATION:Friendly Inn Community Garden\, 159 Moss Vale Rd\, Kangaroo Valley\, NSW\, 2577\, Australia
CATEGORIES:Markets
ATTACH;FMTTYPE=image/jpeg:https://visitkangaroovalley.com.au/wp-content/uploads/2021/06/markets.jpeg
END:VEVENT
BEGIN:VEVENT
DTSTART;TZID=Australia/Melbourne:20270411T090000
DTEND;TZID=Australia/Melbourne:20270411T130000
DTSTAMP:20260421T223725
CREATED:20241031T030225Z
LAST-MODIFIED:20241031T031154Z
UID:10000336-1807434000-1807448400@visitkangaroovalley.com.au
SUMMARY:Farmers Markets
DESCRIPTION:Positively supporting Kangaroo Valley\, The Shoalhaven and the Southern Highlands agriculture\, healthier communities and more sustainable food choices direct from the growers. Meat\, fruit\, vegetables\, herbs\, eggs\, jams\, pickles\, pastries\, cakes\, local honey\, biscuits\, olive oil\, and lots more! Free local live music!
URL:https://visitkangaroovalley.com.au/event/farmers-market/2027-04-11/
LOCATION:Friendly Inn Community Garden\, 159 Moss Vale Rd\, Kangaroo Valley\, NSW\, 2577\, Australia
CATEGORIES:Markets
ATTACH;FMTTYPE=image/jpeg:https://visitkangaroovalley.com.au/wp-content/uploads/2021/06/markets.jpeg
END:VEVENT
BEGIN:VEVENT
DTSTART;TZID=Australia/Melbourne:20270509T090000
DTEND;TZID=Australia/Melbourne:20270509T130000
DTSTAMP:20260421T223725
CREATED:20241031T030225Z
LAST-MODIFIED:20241031T031154Z
UID:10000337-1809853200-1809867600@visitkangaroovalley.com.au
SUMMARY:Farmers Markets
DESCRIPTION:Positively supporting Kangaroo Valley\, The Shoalhaven and the Southern Highlands agriculture\, healthier communities and more sustainable food choices direct from the growers. Meat\, fruit\, vegetables\, herbs\, eggs\, jams\, pickles\, pastries\, cakes\, local honey\, biscuits\, olive oil\, and lots more! Free local live music!
URL:https://visitkangaroovalley.com.au/event/farmers-market/2027-05-09/
LOCATION:Friendly Inn Community Garden\, 159 Moss Vale Rd\, Kangaroo Valley\, NSW\, 2577\, Australia
CATEGORIES:Markets
ATTACH;FMTTYPE=image/jpeg:https://visitkangaroovalley.com.au/wp-content/uploads/2021/06/markets.jpeg
END:VEVENT
BEGIN:VEVENT
DTSTART;TZID=Australia/Melbourne:20270613T090000
DTEND;TZID=Australia/Melbourne:20270613T130000
DTSTAMP:20260421T223725
CREATED:20241031T030225Z
LAST-MODIFIED:20241031T031154Z
UID:10000338-1812877200-1812891600@visitkangaroovalley.com.au
SUMMARY:Farmers Markets
DESCRIPTION:Positively supporting Kangaroo Valley\, The Shoalhaven and the Southern Highlands agriculture\, healthier communities and more sustainable food choices direct from the growers. Meat\, fruit\, vegetables\, herbs\, eggs\, jams\, pickles\, pastries\, cakes\, local honey\, biscuits\, olive oil\, and lots more! Free local live music!
URL:https://visitkangaroovalley.com.au/event/farmers-market/2027-06-13/
LOCATION:Friendly Inn Community Garden\, 159 Moss Vale Rd\, Kangaroo Valley\, NSW\, 2577\, Australia
CATEGORIES:Markets
ATTACH;FMTTYPE=image/jpeg:https://visitkangaroovalley.com.au/wp-content/uploads/2021/06/markets.jpeg
END:VEVENT
BEGIN:VEVENT
DTSTART;TZID=Australia/Melbourne:20270711T090000
DTEND;TZID=Australia/Melbourne:20270711T130000
DTSTAMP:20260421T223725
CREATED:20241031T030225Z
LAST-MODIFIED:20241031T031154Z
UID:10000339-1815296400-1815310800@visitkangaroovalley.com.au
SUMMARY:Farmers Markets
DESCRIPTION:Positively supporting Kangaroo Valley\, The Shoalhaven and the Southern Highlands agriculture\, healthier communities and more sustainable food choices direct from the growers. Meat\, fruit\, vegetables\, herbs\, eggs\, jams\, pickles\, pastries\, cakes\, local honey\, biscuits\, olive oil\, and lots more! Free local live music!
URL:https://visitkangaroovalley.com.au/event/farmers-market/2027-07-11/
LOCATION:Friendly Inn Community Garden\, 159 Moss Vale Rd\, Kangaroo Valley\, NSW\, 2577\, Australia
CATEGORIES:Markets
ATTACH;FMTTYPE=image/jpeg:https://visitkangaroovalley.com.au/wp-content/uploads/2021/06/markets.jpeg
END:VEVENT
BEGIN:VEVENT
DTSTART;TZID=Australia/Melbourne:20270808T090000
DTEND;TZID=Australia/Melbourne:20270808T130000
DTSTAMP:20260421T223725
CREATED:20241031T030225Z
LAST-MODIFIED:20241031T031154Z
UID:10000340-1817715600-1817730000@visitkangaroovalley.com.au
SUMMARY:Farmers Markets
DESCRIPTION:Positively supporting Kangaroo Valley\, The Shoalhaven and the Southern Highlands agriculture\, healthier communities and more sustainable food choices direct from the growers. Meat\, fruit\, vegetables\, herbs\, eggs\, jams\, pickles\, pastries\, cakes\, local honey\, biscuits\, olive oil\, and lots more! Free local live music!
URL:https://visitkangaroovalley.com.au/event/farmers-market/2027-08-08/
LOCATION:Friendly Inn Community Garden\, 159 Moss Vale Rd\, Kangaroo Valley\, NSW\, 2577\, Australia
CATEGORIES:Markets
ATTACH;FMTTYPE=image/jpeg:https://visitkangaroovalley.com.au/wp-content/uploads/2021/06/markets.jpeg
END:VEVENT
BEGIN:VEVENT
DTSTART;TZID=Australia/Melbourne:20270912T090000
DTEND;TZID=Australia/Melbourne:20270912T130000
DTSTAMP:20260421T223725
CREATED:20241031T030225Z
LAST-MODIFIED:20241031T031154Z
UID:10000341-1820739600-1820754000@visitkangaroovalley.com.au
SUMMARY:Farmers Markets
DESCRIPTION:Positively supporting Kangaroo Valley\, The Shoalhaven and the Southern Highlands agriculture\, healthier communities and more sustainable food choices direct from the growers. Meat\, fruit\, vegetables\, herbs\, eggs\, jams\, pickles\, pastries\, cakes\, local honey\, biscuits\, olive oil\, and lots more! Free local live music!
URL:https://visitkangaroovalley.com.au/event/farmers-market/2027-09-12/
LOCATION:Friendly Inn Community Garden\, 159 Moss Vale Rd\, Kangaroo Valley\, NSW\, 2577\, Australia
CATEGORIES:Markets
ATTACH;FMTTYPE=image/jpeg:https://visitkangaroovalley.com.au/wp-content/uploads/2021/06/markets.jpeg
END:VEVENT
BEGIN:VEVENT
DTSTART;TZID=Australia/Melbourne:20271010T090000
DTEND;TZID=Australia/Melbourne:20271010T130000
DTSTAMP:20260421T223725
CREATED:20241031T030225Z
LAST-MODIFIED:20241031T031154Z
UID:10000342-1823158800-1823173200@visitkangaroovalley.com.au
SUMMARY:Farmers Markets
DESCRIPTION:Positively supporting Kangaroo Valley\, The Shoalhaven and the Southern Highlands agriculture\, healthier communities and more sustainable food choices direct from the growers. Meat\, fruit\, vegetables\, herbs\, eggs\, jams\, pickles\, pastries\, cakes\, local honey\, biscuits\, olive oil\, and lots more! Free local live music!
URL:https://visitkangaroovalley.com.au/event/farmers-market/2027-10-10/
LOCATION:Friendly Inn Community Garden\, 159 Moss Vale Rd\, Kangaroo Valley\, NSW\, 2577\, Australia
CATEGORIES:Markets
ATTACH;FMTTYPE=image/jpeg:https://visitkangaroovalley.com.au/wp-content/uploads/2021/06/markets.jpeg
END:VEVENT
BEGIN:VEVENT
DTSTART;TZID=Australia/Melbourne:20271114T090000
DTEND;TZID=Australia/Melbourne:20271114T130000
DTSTAMP:20260421T223725
CREATED:20241031T030225Z
LAST-MODIFIED:20241031T031154Z
UID:10000343-1826182800-1826197200@visitkangaroovalley.com.au
SUMMARY:Farmers Markets
DESCRIPTION:Positively supporting Kangaroo Valley\, The Shoalhaven and the Southern Highlands agriculture\, healthier communities and more sustainable food choices direct from the growers. Meat\, fruit\, vegetables\, herbs\, eggs\, jams\, pickles\, pastries\, cakes\, local honey\, biscuits\, olive oil\, and lots more! Free local live music!
URL:https://visitkangaroovalley.com.au/event/farmers-market/2027-11-14/
LOCATION:Friendly Inn Community Garden\, 159 Moss Vale Rd\, Kangaroo Valley\, NSW\, 2577\, Australia
CATEGORIES:Markets
ATTACH;FMTTYPE=image/jpeg:https://visitkangaroovalley.com.au/wp-content/uploads/2021/06/markets.jpeg
END:VEVENT
BEGIN:VEVENT
DTSTART;TZID=Australia/Melbourne:20271212T090000
DTEND;TZID=Australia/Melbourne:20271212T130000
DTSTAMP:20260421T223725
CREATED:20241031T030225Z
LAST-MODIFIED:20241031T031154Z
UID:10000344-1828602000-1828616400@visitkangaroovalley.com.au
SUMMARY:Farmers Markets
DESCRIPTION:Positively supporting Kangaroo Valley\, The Shoalhaven and the Southern Highlands agriculture\, healthier communities and more sustainable food choices direct from the growers. Meat\, fruit\, vegetables\, herbs\, eggs\, jams\, pickles\, pastries\, cakes\, local honey\, biscuits\, olive oil\, and lots more! Free local live music!
URL:https://visitkangaroovalley.com.au/event/farmers-market/2027-12-12/
LOCATION:Friendly Inn Community Garden\, 159 Moss Vale Rd\, Kangaroo Valley\, NSW\, 2577\, Australia
CATEGORIES:Markets
ATTACH;FMTTYPE=image/jpeg:https://visitkangaroovalley.com.au/wp-content/uploads/2021/06/markets.jpeg
END:VEVENT
BEGIN:VEVENT
DTSTART;TZID=Australia/Melbourne:20280109T090000
DTEND;TZID=Australia/Melbourne:20280109T130000
DTSTAMP:20260421T223725
CREATED:20241031T030225Z
LAST-MODIFIED:20241031T031154Z
UID:10000345-1831021200-1831035600@visitkangaroovalley.com.au
SUMMARY:Farmers Markets
DESCRIPTION:Positively supporting Kangaroo Valley\, The Shoalhaven and the Southern Highlands agriculture\, healthier communities and more sustainable food choices direct from the growers. Meat\, fruit\, vegetables\, herbs\, eggs\, jams\, pickles\, pastries\, cakes\, local honey\, biscuits\, olive oil\, and lots more! Free local live music!
URL:https://visitkangaroovalley.com.au/event/farmers-market/2028-01-09/
LOCATION:Friendly Inn Community Garden\, 159 Moss Vale Rd\, Kangaroo Valley\, NSW\, 2577\, Australia
CATEGORIES:Markets
ATTACH;FMTTYPE=image/jpeg:https://visitkangaroovalley.com.au/wp-content/uploads/2021/06/markets.jpeg
END:VEVENT
BEGIN:VEVENT
DTSTART;TZID=Australia/Melbourne:20280213T090000
DTEND;TZID=Australia/Melbourne:20280213T130000
DTSTAMP:20260421T223725
CREATED:20241031T030225Z
LAST-MODIFIED:20241031T031154Z
UID:10000346-1834045200-1834059600@visitkangaroovalley.com.au
SUMMARY:Farmers Markets
DESCRIPTION:Positively supporting Kangaroo Valley\, The Shoalhaven and the Southern Highlands agriculture\, healthier communities and more sustainable food choices direct from the growers. Meat\, fruit\, vegetables\, herbs\, eggs\, jams\, pickles\, pastries\, cakes\, local honey\, biscuits\, olive oil\, and lots more! Free local live music!
URL:https://visitkangaroovalley.com.au/event/farmers-market/2028-02-13/
LOCATION:Friendly Inn Community Garden\, 159 Moss Vale Rd\, Kangaroo Valley\, NSW\, 2577\, Australia
CATEGORIES:Markets
ATTACH;FMTTYPE=image/jpeg:https://visitkangaroovalley.com.au/wp-content/uploads/2021/06/markets.jpeg
END:VEVENT
BEGIN:VEVENT
DTSTART;TZID=Australia/Melbourne:20280312T090000
DTEND;TZID=Australia/Melbourne:20280312T130000
DTSTAMP:20260421T223725
CREATED:20241031T030225Z
LAST-MODIFIED:20241031T031154Z
UID:10000347-1836464400-1836478800@visitkangaroovalley.com.au
SUMMARY:Farmers Markets
DESCRIPTION:Positively supporting Kangaroo Valley\, The Shoalhaven and the Southern Highlands agriculture\, healthier communities and more sustainable food choices direct from the growers. Meat\, fruit\, vegetables\, herbs\, eggs\, jams\, pickles\, pastries\, cakes\, local honey\, biscuits\, olive oil\, and lots more! Free local live music!
URL:https://visitkangaroovalley.com.au/event/farmers-market/2028-03-12/
LOCATION:Friendly Inn Community Garden\, 159 Moss Vale Rd\, Kangaroo Valley\, NSW\, 2577\, Australia
CATEGORIES:Markets
ATTACH;FMTTYPE=image/jpeg:https://visitkangaroovalley.com.au/wp-content/uploads/2021/06/markets.jpeg
END:VEVENT
BEGIN:VEVENT
DTSTART;TZID=Australia/Melbourne:20280409T090000
DTEND;TZID=Australia/Melbourne:20280409T130000
DTSTAMP:20260421T223725
CREATED:20241031T030225Z
LAST-MODIFIED:20241031T031154Z
UID:10000348-1838883600-1838898000@visitkangaroovalley.com.au
SUMMARY:Farmers Markets
DESCRIPTION:Positively supporting Kangaroo Valley\, The Shoalhaven and the Southern Highlands agriculture\, healthier communities and more sustainable food choices direct from the growers. Meat\, fruit\, vegetables\, herbs\, eggs\, jams\, pickles\, pastries\, cakes\, local honey\, biscuits\, olive oil\, and lots more! Free local live music!
URL:https://visitkangaroovalley.com.au/event/farmers-market/2028-04-09/
LOCATION:Friendly Inn Community Garden\, 159 Moss Vale Rd\, Kangaroo Valley\, NSW\, 2577\, Australia
CATEGORIES:Markets
ATTACH;FMTTYPE=image/jpeg:https://visitkangaroovalley.com.au/wp-content/uploads/2021/06/markets.jpeg
END:VEVENT
BEGIN:VEVENT
DTSTART;TZID=Australia/Melbourne:20280514T090000
DTEND;TZID=Australia/Melbourne:20280514T130000
DTSTAMP:20260421T223725
CREATED:20241031T030225Z
LAST-MODIFIED:20241031T031154Z
UID:10000349-1841907600-1841922000@visitkangaroovalley.com.au
SUMMARY:Farmers Markets
DESCRIPTION:Positively supporting Kangaroo Valley\, The Shoalhaven and the Southern Highlands agriculture\, healthier communities and more sustainable food choices direct from the growers. Meat\, fruit\, vegetables\, herbs\, eggs\, jams\, pickles\, pastries\, cakes\, local honey\, biscuits\, olive oil\, and lots more! Free local live music!
URL:https://visitkangaroovalley.com.au/event/farmers-market/2028-05-14/
LOCATION:Friendly Inn Community Garden\, 159 Moss Vale Rd\, Kangaroo Valley\, NSW\, 2577\, Australia
CATEGORIES:Markets
ATTACH;FMTTYPE=image/jpeg:https://visitkangaroovalley.com.au/wp-content/uploads/2021/06/markets.jpeg
END:VEVENT
BEGIN:VEVENT
DTSTART;TZID=Australia/Melbourne:20280611T090000
DTEND;TZID=Australia/Melbourne:20280611T130000
DTSTAMP:20260421T223725
CREATED:20241031T030225Z
LAST-MODIFIED:20241031T031154Z
UID:10000350-1844326800-1844341200@visitkangaroovalley.com.au
SUMMARY:Farmers Markets
DESCRIPTION:Positively supporting Kangaroo Valley\, The Shoalhaven and the Southern Highlands agriculture\, healthier communities and more sustainable food choices direct from the growers. Meat\, fruit\, vegetables\, herbs\, eggs\, jams\, pickles\, pastries\, cakes\, local honey\, biscuits\, olive oil\, and lots more! Free local live music!
URL:https://visitkangaroovalley.com.au/event/farmers-market/2028-06-11/
LOCATION:Friendly Inn Community Garden\, 159 Moss Vale Rd\, Kangaroo Valley\, NSW\, 2577\, Australia
CATEGORIES:Markets
ATTACH;FMTTYPE=image/jpeg:https://visitkangaroovalley.com.au/wp-content/uploads/2021/06/markets.jpeg
END:VEVENT
BEGIN:VEVENT
DTSTART;TZID=Australia/Melbourne:20280709T090000
DTEND;TZID=Australia/Melbourne:20280709T130000
DTSTAMP:20260421T223725
CREATED:20241031T030225Z
LAST-MODIFIED:20241031T031154Z
UID:10000351-1846746000-1846760400@visitkangaroovalley.com.au
SUMMARY:Farmers Markets
DESCRIPTION:Positively supporting Kangaroo Valley\, The Shoalhaven and the Southern Highlands agriculture\, healthier communities and more sustainable food choices direct from the growers. Meat\, fruit\, vegetables\, herbs\, eggs\, jams\, pickles\, pastries\, cakes\, local honey\, biscuits\, olive oil\, and lots more! Free local live music!
URL:https://visitkangaroovalley.com.au/event/farmers-market/2028-07-09/
LOCATION:Friendly Inn Community Garden\, 159 Moss Vale Rd\, Kangaroo Valley\, NSW\, 2577\, Australia
CATEGORIES:Markets
ATTACH;FMTTYPE=image/jpeg:https://visitkangaroovalley.com.au/wp-content/uploads/2021/06/markets.jpeg
END:VEVENT
BEGIN:VEVENT
DTSTART;TZID=Australia/Melbourne:20280813T090000
DTEND;TZID=Australia/Melbourne:20280813T130000
DTSTAMP:20260421T223725
CREATED:20241031T030225Z
LAST-MODIFIED:20241031T031154Z
UID:10000352-1849770000-1849784400@visitkangaroovalley.com.au
SUMMARY:Farmers Markets
DESCRIPTION:Positively supporting Kangaroo Valley\, The Shoalhaven and the Southern Highlands agriculture\, healthier communities and more sustainable food choices direct from the growers. Meat\, fruit\, vegetables\, herbs\, eggs\, jams\, pickles\, pastries\, cakes\, local honey\, biscuits\, olive oil\, and lots more! Free local live music!
URL:https://visitkangaroovalley.com.au/event/farmers-market/2028-08-13/
LOCATION:Friendly Inn Community Garden\, 159 Moss Vale Rd\, Kangaroo Valley\, NSW\, 2577\, Australia
CATEGORIES:Markets
ATTACH;FMTTYPE=image/jpeg:https://visitkangaroovalley.com.au/wp-content/uploads/2021/06/markets.jpeg
END:VEVENT
BEGIN:VEVENT
DTSTART;TZID=Australia/Melbourne:20280910T090000
DTEND;TZID=Australia/Melbourne:20280910T130000
DTSTAMP:20260421T223725
CREATED:20241031T030225Z
LAST-MODIFIED:20241031T031154Z
UID:10000353-1852189200-1852203600@visitkangaroovalley.com.au
SUMMARY:Farmers Markets
DESCRIPTION:Positively supporting Kangaroo Valley\, The Shoalhaven and the Southern Highlands agriculture\, healthier communities and more sustainable food choices direct from the growers. Meat\, fruit\, vegetables\, herbs\, eggs\, jams\, pickles\, pastries\, cakes\, local honey\, biscuits\, olive oil\, and lots more! Free local live music!
URL:https://visitkangaroovalley.com.au/event/farmers-market/2028-09-10/
LOCATION:Friendly Inn Community Garden\, 159 Moss Vale Rd\, Kangaroo Valley\, NSW\, 2577\, Australia
CATEGORIES:Markets
ATTACH;FMTTYPE=image/jpeg:https://visitkangaroovalley.com.au/wp-content/uploads/2021/06/markets.jpeg
END:VEVENT
BEGIN:VEVENT
DTSTART;TZID=Australia/Melbourne:20281008T090000
DTEND;TZID=Australia/Melbourne:20281008T130000
DTSTAMP:20260421T223725
CREATED:20241031T030225Z
LAST-MODIFIED:20241031T031154Z
UID:10000354-1854608400-1854622800@visitkangaroovalley.com.au
SUMMARY:Farmers Markets
DESCRIPTION:Positively supporting Kangaroo Valley\, The Shoalhaven and the Southern Highlands agriculture\, healthier communities and more sustainable food choices direct from the growers. Meat\, fruit\, vegetables\, herbs\, eggs\, jams\, pickles\, pastries\, cakes\, local honey\, biscuits\, olive oil\, and lots more! Free local live music!
URL:https://visitkangaroovalley.com.au/event/farmers-market/2028-10-08/
LOCATION:Friendly Inn Community Garden\, 159 Moss Vale Rd\, Kangaroo Valley\, NSW\, 2577\, Australia
CATEGORIES:Markets
ATTACH;FMTTYPE=image/jpeg:https://visitkangaroovalley.com.au/wp-content/uploads/2021/06/markets.jpeg
END:VEVENT
END:VCALENDAR