BEGIN:VCALENDAR
VERSION:2.0
PRODID:-//Kangaroo Valley - South Coast NSW - ECPv6.15.18//NONSGML v1.0//EN
CALSCALE:GREGORIAN
METHOD:PUBLISH
X-ORIGINAL-URL:https://visitkangaroovalley.com.au
X-WR-CALDESC:Events for Kangaroo Valley - South Coast NSW
REFRESH-INTERVAL;VALUE=DURATION:PT1H
X-Robots-Tag:noindex
X-PUBLISHED-TTL:PT1H
BEGIN:VTIMEZONE
TZID:Australia/Melbourne
BEGIN:STANDARD
TZOFFSETFROM:+1100
TZOFFSETTO:+1000
TZNAME:AEST
DTSTART:20240406T160000
END:STANDARD
BEGIN:DAYLIGHT
TZOFFSETFROM:+1000
TZOFFSETTO:+1100
TZNAME:AEDT
DTSTART:20241005T160000
END:DAYLIGHT
BEGIN:STANDARD
TZOFFSETFROM:+1100
TZOFFSETTO:+1000
TZNAME:AEST
DTSTART:20250405T160000
END:STANDARD
BEGIN:DAYLIGHT
TZOFFSETFROM:+1000
TZOFFSETTO:+1100
TZNAME:AEDT
DTSTART:20251004T160000
END:DAYLIGHT
BEGIN:STANDARD
TZOFFSETFROM:+1100
TZOFFSETTO:+1000
TZNAME:AEST
DTSTART:20260404T160000
END:STANDARD
BEGIN:DAYLIGHT
TZOFFSETFROM:+1000
TZOFFSETTO:+1100
TZNAME:AEDT
DTSTART:20261003T160000
END:DAYLIGHT
END:VTIMEZONE
BEGIN:VEVENT
DTSTART;TZID=Australia/Melbourne:20251205T170000
DTEND;TZID=Australia/Melbourne:20251205T210000
DTSTAMP:20260422T170347
CREATED:20251105T024737Z
LAST-MODIFIED:20251109T070043Z
UID:10001974-1764954000-1764968400@visitkangaroovalley.com.au
SUMMARY:Christmas Market Kangaroo Valley
DESCRIPTION:Enjoy an evening of holiday cheer with shops open late\, unique market stalls\, delicious food and family-friendly activities.\nPlus\, there will be a special visit from Santa! \nMarket stalls are available. If you’re interested in participating\, please contact Nikki at nikki@thehivekv.com. \nFind the perfect gifts and celebrate the season with festive fun in Kangaroo Valley!
URL:https://visitkangaroovalley.com.au/event/christmasmarketkangaroovalley/
LOCATION:The Village\, 170 Moss Vale Road\, Kangaroo Valley\, NSW\, 2577\, Australia
CATEGORIES:Food & Wine,Markets,Music & Festivals,Performing Arts
ATTACH;FMTTYPE=image/jpeg:https://visitkangaroovalley.com.au/wp-content/uploads/2025/10/xmas.jpg
ORGANIZER;CN="The Hive":MAILTO:info@thehivekv.com
END:VEVENT
END:VCALENDAR