BEGIN:VCALENDAR
VERSION:2.0
PRODID:-//Kangaroo Valley - South Coast NSW - ECPv6.15.18//NONSGML v1.0//EN
CALSCALE:GREGORIAN
METHOD:PUBLISH
X-WR-CALNAME:Kangaroo Valley - South Coast NSW
X-ORIGINAL-URL:https://visitkangaroovalley.com.au
X-WR-CALDESC:Events for Kangaroo Valley - South Coast NSW
REFRESH-INTERVAL;VALUE=DURATION:PT1H
X-Robots-Tag:noindex
X-PUBLISHED-TTL:PT1H
BEGIN:VTIMEZONE
TZID:Australia/Melbourne
BEGIN:STANDARD
TZOFFSETFROM:+1100
TZOFFSETTO:+1000
TZNAME:AEST
DTSTART:20240406T160000
END:STANDARD
BEGIN:DAYLIGHT
TZOFFSETFROM:+1000
TZOFFSETTO:+1100
TZNAME:AEDT
DTSTART:20241005T160000
END:DAYLIGHT
BEGIN:STANDARD
TZOFFSETFROM:+1100
TZOFFSETTO:+1000
TZNAME:AEST
DTSTART:20250405T160000
END:STANDARD
BEGIN:DAYLIGHT
TZOFFSETFROM:+1000
TZOFFSETTO:+1100
TZNAME:AEDT
DTSTART:20251004T160000
END:DAYLIGHT
BEGIN:STANDARD
TZOFFSETFROM:+1100
TZOFFSETTO:+1000
TZNAME:AEST
DTSTART:20260404T160000
END:STANDARD
BEGIN:DAYLIGHT
TZOFFSETFROM:+1000
TZOFFSETTO:+1100
TZNAME:AEDT
DTSTART:20261003T160000
END:DAYLIGHT
END:VTIMEZONE
BEGIN:VEVENT
DTSTART;TZID=Australia/Melbourne:20251212T170000
DTEND;TZID=Australia/Melbourne:20251212T210000
DTSTAMP:20260422T152036
CREATED:20251204T024708Z
LAST-MODIFIED:20251204T024758Z
UID:10001976-1765558800-1765573200@visitkangaroovalley.com.au
SUMMARY:Caterina KV Wine Bar
DESCRIPTION:December Evenings 2025\nOptions of drinks\, nibbles or a more substantial meal.\nIf you want to book a table please let us know how many people. \nFeel free to text or ring 0438 651442\nCaterina KV\nShop 3\, 165 Moss Vale Road\, Kangaroo Valley NSW 2577 \n 
URL:https://visitkangaroovalley.com.au/event/caterina-kv-wine-bar/2025-12-12/
LOCATION:Caterina\, Shop 3/165 Moss Vale Rd\, Kangaroo Valley\, NSW\, 2577
CATEGORIES:Food & Wine
ATTACH;FMTTYPE=image/webp:https://visitkangaroovalley.com.au/wp-content/uploads/2025/12/tempImageYaNA7Q-scaled.webp
END:VEVENT
BEGIN:VEVENT
DTSTART;TZID=Australia/Melbourne:20251214T090000
DTEND;TZID=Australia/Melbourne:20251214T130000
DTSTAMP:20260422T152036
CREATED:20241031T030225Z
LAST-MODIFIED:20241031T031154Z
UID:10000320-1765702800-1765717200@visitkangaroovalley.com.au
SUMMARY:Farmers Markets
DESCRIPTION:Positively supporting Kangaroo Valley\, The Shoalhaven and the Southern Highlands agriculture\, healthier communities and more sustainable food choices direct from the growers. Meat\, fruit\, vegetables\, herbs\, eggs\, jams\, pickles\, pastries\, cakes\, local honey\, biscuits\, olive oil\, and lots more! Free local live music!
URL:https://visitkangaroovalley.com.au/event/farmers-market/2025-12-14/
LOCATION:Friendly Inn Community Garden\, 159 Moss Vale Rd\, Kangaroo Valley\, NSW\, 2577\, Australia
CATEGORIES:Markets
ATTACH;FMTTYPE=image/jpeg:https://visitkangaroovalley.com.au/wp-content/uploads/2021/06/markets.jpeg
END:VEVENT
END:VCALENDAR