BEGIN:VCALENDAR
VERSION:2.0
PRODID:-//Kangaroo Valley - South Coast NSW - ECPv6.15.18//NONSGML v1.0//EN
CALSCALE:GREGORIAN
METHOD:PUBLISH
X-WR-CALNAME:Kangaroo Valley - South Coast NSW
X-ORIGINAL-URL:https://visitkangaroovalley.com.au
X-WR-CALDESC:Events for Kangaroo Valley - South Coast NSW
REFRESH-INTERVAL;VALUE=DURATION:PT1H
X-Robots-Tag:noindex
X-PUBLISHED-TTL:PT1H
BEGIN:VTIMEZONE
TZID:Australia/Melbourne
BEGIN:STANDARD
TZOFFSETFROM:+1100
TZOFFSETTO:+1000
TZNAME:AEST
DTSTART:20250405T160000
END:STANDARD
BEGIN:DAYLIGHT
TZOFFSETFROM:+1000
TZOFFSETTO:+1100
TZNAME:AEDT
DTSTART:20251004T160000
END:DAYLIGHT
BEGIN:STANDARD
TZOFFSETFROM:+1100
TZOFFSETTO:+1000
TZNAME:AEST
DTSTART:20260404T160000
END:STANDARD
BEGIN:DAYLIGHT
TZOFFSETFROM:+1000
TZOFFSETTO:+1100
TZNAME:AEDT
DTSTART:20261003T160000
END:DAYLIGHT
BEGIN:STANDARD
TZOFFSETFROM:+1100
TZOFFSETTO:+1000
TZNAME:AEST
DTSTART:20270403T160000
END:STANDARD
BEGIN:DAYLIGHT
TZOFFSETFROM:+1000
TZOFFSETTO:+1100
TZNAME:AEDT
DTSTART:20271002T160000
END:DAYLIGHT
END:VTIMEZONE
BEGIN:VEVENT
DTSTART;TZID=Australia/Melbourne:20260107T093000
DTEND;TZID=Australia/Melbourne:20260107T100000
DTSTAMP:20260422T112328
CREATED:20251208T045931Z
LAST-MODIFIED:20251208T045931Z
UID:10002066-1767778200-1767780000@visitkangaroovalley.com.au
SUMMARY:Farm Tour at Winderong
DESCRIPTION:Come meet and interact the with the animals at Summer Holiday Farm tour at Winderong. Learn how we milk our Jersey cows and about calf-at-foot dairying with little Minnie and Mumma Mouse. \nGently cuddle our new baby turkeys before they get too big. They grow so fast! See how we use our chickens to fertilise the orchard and garden. Explore\, wander and taste your way through the garden and meet with our team of growers. This is a great tour for families and animal lovers. \nFeel free to bring a picnic and have a little explore along the creek. \nWinderong is a working farm with uneven ground and various hazards. Please wear appropriate footwear. All children MUST be accompanied by a parent or guardian. \nWhen: Wednesday 7th January at 9:00 -10:30 \nLocation: Winderong Farm\, Upper Kangaroo River \nCost: $20 adults\, $10 children \nTickets are limited. \nAbout Us: \nWinderong Farm is an experimental project encompassing permaculture\, regenerative agriculture\, bush regeneration\, sustainability and communal living. Our farm is set on 810 acres of stunning wilderness and farmland in beautiful Dharawal country\, Kangaroo Valley. Our growing community consists of around 12-15 full-time residents\, as well as local employees and a host of beautiful and much-loved farm animals and wildlife. We aim to embody the permaculture principle of “we are nature working” and develop a deep understanding and respect for the land we steward\, all the while aiming to regenerate the earth and learn from her and each other.
URL:https://visitkangaroovalley.com.au/event/farm-tour-at-winderong/
LOCATION:Winderong Farm\, 205 Gerringong Creek Rd\, Upper Kangaroo River\, NSW\, 2577\, Australia
CATEGORIES:Culture,Food & Wine,workshops
ATTACH;FMTTYPE=image/jpeg:https://visitkangaroovalley.com.au/wp-content/uploads/2025/12/FamilyTour.jpg
END:VEVENT
BEGIN:VEVENT
DTSTART;TZID=Australia/Melbourne:20260111T090000
DTEND;TZID=Australia/Melbourne:20260111T130000
DTSTAMP:20260422T112328
CREATED:20241031T030225Z
LAST-MODIFIED:20241031T031154Z
UID:10000321-1768122000-1768136400@visitkangaroovalley.com.au
SUMMARY:Farmers Markets
DESCRIPTION:Positively supporting Kangaroo Valley\, The Shoalhaven and the Southern Highlands agriculture\, healthier communities and more sustainable food choices direct from the growers. Meat\, fruit\, vegetables\, herbs\, eggs\, jams\, pickles\, pastries\, cakes\, local honey\, biscuits\, olive oil\, and lots more! Free local live music!
URL:https://visitkangaroovalley.com.au/event/farmers-market/2026-01-11/
LOCATION:Friendly Inn Community Garden\, 159 Moss Vale Rd\, Kangaroo Valley\, NSW\, 2577\, Australia
CATEGORIES:Markets
ATTACH;FMTTYPE=image/jpeg:https://visitkangaroovalley.com.au/wp-content/uploads/2021/06/markets.jpeg
END:VEVENT
END:VCALENDAR