BEGIN:VCALENDAR
VERSION:2.0
PRODID:-//Kangaroo Valley - South Coast NSW - ECPv6.15.18//NONSGML v1.0//EN
CALSCALE:GREGORIAN
METHOD:PUBLISH
X-WR-CALNAME:Kangaroo Valley - South Coast NSW
X-ORIGINAL-URL:https://visitkangaroovalley.com.au
X-WR-CALDESC:Events for Kangaroo Valley - South Coast NSW
REFRESH-INTERVAL;VALUE=DURATION:PT1H
X-Robots-Tag:noindex
X-PUBLISHED-TTL:PT1H
BEGIN:VTIMEZONE
TZID:Australia/Melbourne
BEGIN:STANDARD
TZOFFSETFROM:+1100
TZOFFSETTO:+1000
TZNAME:AEST
DTSTART:20250405T160000
END:STANDARD
BEGIN:DAYLIGHT
TZOFFSETFROM:+1000
TZOFFSETTO:+1100
TZNAME:AEDT
DTSTART:20251004T160000
END:DAYLIGHT
BEGIN:STANDARD
TZOFFSETFROM:+1100
TZOFFSETTO:+1000
TZNAME:AEST
DTSTART:20260404T160000
END:STANDARD
BEGIN:DAYLIGHT
TZOFFSETFROM:+1000
TZOFFSETTO:+1100
TZNAME:AEDT
DTSTART:20261003T160000
END:DAYLIGHT
BEGIN:STANDARD
TZOFFSETFROM:+1100
TZOFFSETTO:+1000
TZNAME:AEST
DTSTART:20270403T160000
END:STANDARD
BEGIN:DAYLIGHT
TZOFFSETFROM:+1000
TZOFFSETTO:+1100
TZNAME:AEDT
DTSTART:20271002T160000
END:DAYLIGHT
END:VTIMEZONE
BEGIN:VEVENT
DTSTART;TZID=Australia/Melbourne:20260404T110000
DTEND;TZID=Australia/Melbourne:20260404T170000
DTSTAMP:20260422T091116
CREATED:20220301T221740Z
LAST-MODIFIED:20260208T233938Z
UID:10000234-1775300400-1775322000@visitkangaroovalley.com.au
SUMMARY:Pig Day Out
DESCRIPTION:Pig Day Out returns to The Friendly Inn on the Easter long weekend Saturday the 8th April. With free entry for all ages races start at 11.30am. There’s a full six card race meeting of racing piglets that you can win in a pre race raffle or the pre race auction! Up for grabs are pub vouchers and cash prizes. There will be a great lineup of live local music music alongside the pig racing. It’s great country fun with all proceeds going to our local community groups.  \nFirst race 11.30am. Live music \, pig racing\, full bar and bistro services. Featuring Noah’s Thoroughbred Pig Racing\, an organisation that have been instrumental in raising over 1 million dollars for charities and sporting and community organisations.
URL:https://visitkangaroovalley.com.au/event/pig-day-out/
LOCATION:Friendly Inn\, 159 Moss Vale Rd\, Kangaroo Valley\, NSW\, Australia
CATEGORIES:Food & Wine,Markets,Music & Festivals
ATTACH;FMTTYPE=image/jpeg:https://visitkangaroovalley.com.au/wp-content/uploads/2022/03/pigdayout.jpeg
ORGANIZER;CN="The Friendly Inn":MAILTO:mail@thefriendlyinn.com.au
END:VEVENT
END:VCALENDAR